BEGIN:VCALENDAR
VERSION:2.0
PRODID:icalendar-ruby
CALSCALE:GREGORIAN
METHOD:PUBLISH
BEGIN:VEVENT
DTSTAMP:20260422T203120Z
UID:3-340390@beaconbaptistchurchhc.com
DTSTART:20260620T160000Z
DTEND:20260620T180000Z
CLASS:PUBLIC
CREATED:20260422T090159
DESCRIPTION:All Ladies are Welcome to Join us. To ensure we have enough sit
 ting\, please let Stephanie Avalos know how many Ladies you are planning o
 n bringing. 
LAST-MODIFIED:20260422T090159
LOCATION:770 S Main St Ste 430\, Keller\, Tx 76248
SUMMARY:Ladies Tea
URL;VALUE=URI:https://www.beaconbaptistchurchhc.com/events/ladies-tea/2026-
 06-20
ATTACH;FILENAME=1000009690.jpg;FMTTYPE=image/jpeg:https://dq5pwpg1q8ru0.clo
 udfront.net/2026/04/22/13/36/45/ac4b428b-2c06-4a43-9d23-a104406c4cf3/10000
 09690.jpg
END:VEVENT
END:VCALENDAR
