BEGIN:VCALENDAR
VERSION:2.0
PRODID:icalendar-ruby
CALSCALE:GREGORIAN
METHOD:PUBLISH
BEGIN:VEVENT
DTSTAMP:20260422T222314Z
UID:5-340366@beaconbaptistchurchhc.com
DTSTART:20260426T153000Z
DTEND:20260426T163000Z
CLASS:PUBLIC
CREATED:20260309T140617
DESCRIPTION:Sunday Worship
LAST-MODIFIED:20260309T140617
LOCATION:
SUMMARY:Sunday Worship
URL;VALUE=URI:https://www.beaconbaptistchurchhc.com/events/sunday-worship/2
 026-04-26
END:VEVENT
END:VCALENDAR
