BEGIN:VCALENDAR
VERSION:2.0
PRODID:icalendar-ruby
CALSCALE:GREGORIAN
METHOD:PUBLISH
BEGIN:VEVENT
DTSTAMP:20260423T073018Z
UID:5-340371@beaconbaptistchurchhc.com
DTSTART:20260531T153000Z
DTEND:20260531T163000Z
CLASS:PUBLIC
CREATED:20260309T140617
DESCRIPTION:Sunday Worship
LAST-MODIFIED:20260309T140617
LOCATION:
SUMMARY:Sunday Worship
URL;VALUE=URI:https://www.beaconbaptistchurchhc.com/events/sunday-worship/2
 026-05-31
END:VEVENT
END:VCALENDAR
